BEGIN:VCALENDAR
VERSION:2.0
PRODID:-//jEvents 2.0 for Joomla//EN
CALSCALE:GREGORIAN
METHOD:PUBLISH
BEGIN:VEVENT
UID:27f12b33b684802c67d272f88c89c367
CATEGORIES:Seminars
CREATED:20250127T114431
SUMMARY:Kalina Manova - UCL
DESCRIPTION;ENCODING=QUOTED-PRINTABLE:<p><a href="https://www.kalinamanova.com/_files/ugd/5e915f_ffe374cafc364055
 8356e8bc7bd415cb.pdf" target="_blank" rel="noopener"><strong>Multinational 
 Firms and Global Innovation</strong></a></p>
DTSTAMP:20260421T093653Z
DTSTART:20250522T143000Z
DTEND:20250522T160000Z
SEQUENCE:0
TRANSP:OPAQUE
END:VEVENT
END:VCALENDAR