BEGIN:VCALENDAR
VERSION:2.0
PRODID:-//jEvents 2.0 for Joomla//EN
CALSCALE:GREGORIAN
METHOD:PUBLISH
BEGIN:VEVENT
UID:de7d1a10b9030f548d79bf41fff06f37
CATEGORIES:Seminars
CREATED:20240708T130742
SUMMARY:Esteban Rossi-Hansberg - University of Chicago
DESCRIPTION;ENCODING=QUOTED-PRINTABLE:<p><em><strong>Banks in Space</strong></em></p><p>Abstract:</p><p style="te
 xt-align: justify;">We study the spatial expansion of banks in response to 
 banking deregulation in the 1980s and 90s. During this period, large banks 
 expanded rapidly, mostly by adding new branches in new locations, while man
 y small banks exited. We document that large banks sorted into the densest 
 markets, but that sorting weakened over time as large banks expanded to mor
 e marginal markets in search of locations with a relative abundance of reta
 il deposits. This allowed large banks to reduce their dependence on expensi
 ve wholesale funding and grow further. To rationalize these patterns we pro
 pose a theory of multi-branch banks that sort into heterogeneous locations.
  Our theory yields two forms of sorting. First, span-ofcontrol sorting inc
 entivizes top firms to select the largest markets and smaller banks the mor
 e marginal ones. Second, mismatch sorting incentivizes banks to locate in m
 ore marginal locations, where deposits are abundant relative to loan demand
 , to better align their deposits and loans and minimize wholesale funding. 
 Together, these two forms of sorting account well for the sorting patterns 
 we document in the data.</p>
DTSTAMP:20260422T231334Z
DTSTART:20241028T163000Z
DTEND:20241028T180000Z
SEQUENCE:0
TRANSP:OPAQUE
END:VEVENT
END:VCALENDAR