BEGIN:VCALENDAR
VERSION:2.0
PRODID:-//jEvents 2.0 for Joomla//EN
CALSCALE:GREGORIAN
METHOD:PUBLISH
BEGIN:VEVENT
UID:6256d99127a1b5de2ee74273925323da
CATEGORIES:Seminars
CREATED:20240708T130658
SUMMARY:Per Krusell - Institute for International Economic Studies at Stockholm University
DESCRIPTION;ENCODING=QUOTED-PRINTABLE:<p><a href="images/Krusell.pdf"><em><strong>Who should work how much?</stro
 ng></em></a></p>
DTSTAMP:20260423T021550Z
DTSTART:20241021T163000Z
DTEND:20241021T180000Z
SEQUENCE:0
TRANSP:OPAQUE
END:VEVENT
END:VCALENDAR