BEGIN:VCALENDAR
VERSION:2.0
PRODID:-//jEvents 2.0 for Joomla//EN
CALSCALE:GREGORIAN
METHOD:PUBLISH
BEGIN:VEVENT
UID:5355f4b9b92931302e412dd7a4e96ecf
CATEGORIES:Seminars
CREATED:20240516T111733
SUMMARY:Diogo Mendes - Stockholm School of Economics
DESCRIPTION;ENCODING=QUOTED-PRINTABLE:<p><a href="images/Mendes.pdf">Information Frictions and Firm Take-Up of Go
 vernment Support:&nbsp;A Randomised Controlled Experiment</a></p>
DTSTAMP:20260423T021550Z
DTSTART:20241031T163000Z
DTEND:20241031T180000Z
SEQUENCE:0
TRANSP:OPAQUE
END:VEVENT
END:VCALENDAR