BEGIN:VCALENDAR
VERSION:2.0
PRODID:-//jEvents 2.0 for Joomla//EN
CALSCALE:GREGORIAN
METHOD:PUBLISH
BEGIN:VEVENT
UID:613c1f8764383110d10119aa2dabb728
CATEGORIES:Seminars
CREATED:20231004T120839
SUMMARY:Lunch Seminar: Konstantin Egorov - Leibniz Institute for Financial Research SAFE
DESCRIPTION;ENCODING=QUOTED-PRINTABLE:<p><a href="images/Egorov.pdf">The Effect of Trade on Unemployment: Propaga
 tion across Labor Markets</a></p>
DTSTAMP:20260424T181611Z
DTSTART:20231011T130000Z
DTEND:20231011T140000Z
SEQUENCE:0
TRANSP:OPAQUE
END:VEVENT
END:VCALENDAR