BEGIN:VCALENDAR
VERSION:2.0
PRODID:-//jEvents 2.0 for Joomla//EN
CALSCALE:GREGORIAN
METHOD:PUBLISH
BEGIN:VEVENT
UID:a3ec9b910ada56febe2bad03a65d192d
CATEGORIES:Seminars
CREATED:20230605T144647
SUMMARY:Xavier Jaravel - London School of Economics
DESCRIPTION;ENCODING=QUOTED-PRINTABLE:<p><a href="images/Jaravel.pdf">Five Facts about MPCs: Evidence from a Rand
 omized Experiment</a></p>
DTSTAMP:20260424T193424Z
DTSTART:20231030T023000Z
DTEND:20231030T160000Z
SEQUENCE:0
TRANSP:OPAQUE
END:VEVENT
END:VCALENDAR