BEGIN:VCALENDAR
VERSION:2.0
PRODID:-//jEvents 2.0 for Joomla//EN
CALSCALE:GREGORIAN
METHOD:PUBLISH
BEGIN:VEVENT
UID:3fa36c4ed1bbecc3c782d4fb085794f6
CATEGORIES:Seminars
CREATED:20230504T122457
SUMMARY:Giovanni Gallipoli - Vancouver School of Economics
DESCRIPTION;ENCODING=QUOTED-PRINTABLE:\n\nThe Changing Value of Employment and Its Implications\n\n\nAbstract:\nW
 e characterize the employment value of different worker-occupation matches 
 and estimate the substitutability of match-specific inputs in production. I
 n an equilibrium model of the U.S. labor market, we examine the responses o
 f employment and wages to shifts in technology and match values. Earnings a
 re mainly driven by technology while match value heterogeneity influences t
 he distribution of workers across occupations. The model delivers measures 
 of rents and compensating differentials. After 1980, employment rents incre
 ased for educated workers but stagnated for others. Compensating differenti
 als have risen on average, particularly in occupations where worker mobilit
 y has grown.\n
DTSTAMP:20260424T193149Z
DTSTART:20231023T023000Z
DTEND:20231023T160000Z
SEQUENCE:0
TRANSP:OPAQUE
END:VEVENT
END:VCALENDAR